BEGIN:VCALENDAR
VERSION:2.0
PRODID:-//Shepherds Crook Golf Course - ECPv6.15.18//NONSGML v1.0//EN
CALSCALE:GREGORIAN
METHOD:PUBLISH
X-WR-CALNAME:Shepherds Crook Golf Course
X-ORIGINAL-URL:https://www.shepherdscrook.org
X-WR-CALDESC:Events for Shepherds Crook Golf Course
REFRESH-INTERVAL;VALUE=DURATION:PT1H
X-Robots-Tag:noindex
X-PUBLISHED-TTL:PT1H
BEGIN:VTIMEZONE
TZID:America/Chicago
BEGIN:DAYLIGHT
TZOFFSETFROM:-0600
TZOFFSETTO:-0500
TZNAME:CDT
DTSTART:20250309T080000
END:DAYLIGHT
BEGIN:STANDARD
TZOFFSETFROM:-0500
TZOFFSETTO:-0600
TZNAME:CST
DTSTART:20251102T070000
END:STANDARD
BEGIN:DAYLIGHT
TZOFFSETFROM:-0600
TZOFFSETTO:-0500
TZNAME:CDT
DTSTART:20260308T080000
END:DAYLIGHT
BEGIN:STANDARD
TZOFFSETFROM:-0500
TZOFFSETTO:-0600
TZNAME:CST
DTSTART:20261101T070000
END:STANDARD
BEGIN:DAYLIGHT
TZOFFSETFROM:-0600
TZOFFSETTO:-0500
TZNAME:CDT
DTSTART:20270314T080000
END:DAYLIGHT
BEGIN:STANDARD
TZOFFSETFROM:-0500
TZOFFSETTO:-0600
TZNAME:CST
DTSTART:20271107T070000
END:STANDARD
END:VTIMEZONE
BEGIN:VEVENT
DTSTART;VALUE=DATE:20260502
DTEND;VALUE=DATE:20260503
DTSTAMP:20260421T064555
CREATED:20260107T015354Z
LAST-MODIFIED:20260406T211855Z
UID:10000021-1777680000-1777766399@www.shepherdscrook.org
SUMMARY:Spring Scramble 2026
DESCRIPTION:Spring Scramble: 4 person scramble\, 18 holes\, tee times start at 8am\, $500 per team\, includes greens fees\, cart\, lunch and a sleeve of golf balls\, Registration opens April 1\, 2026 and field is limited to 30 teams. \nClick Here to Register
URL:https://www.shepherdscrook.org/event/spring-classic-2/
ATTACH;FMTTYPE=image/png:https://www.shepherdscrook.org/wp-content/uploads/sites/6172/2026/01/Spring-Scramble-2026-Shepherds-Crook-V2-1.png
END:VEVENT
END:VCALENDAR