BEGIN:VCALENDAR
VERSION:2.0
PRODID:-//Shepherds Crook Golf Course - ECPv6.15.18//NONSGML v1.0//EN
CALSCALE:GREGORIAN
METHOD:PUBLISH
X-WR-CALNAME:Shepherds Crook Golf Course
X-ORIGINAL-URL:https://www.shepherdscrook.org
X-WR-CALDESC:Events for Shepherds Crook Golf Course
REFRESH-INTERVAL;VALUE=DURATION:PT1H
X-Robots-Tag:noindex
X-PUBLISHED-TTL:PT1H
BEGIN:VTIMEZONE
TZID:America/New_York
BEGIN:DAYLIGHT
TZOFFSETFROM:-0500
TZOFFSETTO:-0400
TZNAME:EDT
DTSTART:20250309T070000
END:DAYLIGHT
BEGIN:STANDARD
TZOFFSETFROM:-0400
TZOFFSETTO:-0500
TZNAME:EST
DTSTART:20251102T060000
END:STANDARD
BEGIN:DAYLIGHT
TZOFFSETFROM:-0500
TZOFFSETTO:-0400
TZNAME:EDT
DTSTART:20260308T070000
END:DAYLIGHT
BEGIN:STANDARD
TZOFFSETFROM:-0400
TZOFFSETTO:-0500
TZNAME:EST
DTSTART:20261101T060000
END:STANDARD
BEGIN:DAYLIGHT
TZOFFSETFROM:-0500
TZOFFSETTO:-0400
TZNAME:EDT
DTSTART:20270314T070000
END:DAYLIGHT
BEGIN:STANDARD
TZOFFSETFROM:-0400
TZOFFSETTO:-0500
TZNAME:EST
DTSTART:20271107T060000
END:STANDARD
END:VTIMEZONE
BEGIN:VEVENT
DTSTART;TZID=America/New_York:20261003T090000
DTEND;TZID=America/New_York:20261003T090000
DTSTAMP:20260421T145152
CREATED:20250510T195031Z
LAST-MODIFIED:20260327T190653Z
UID:10000018-1791018000-1791018000@www.shepherdscrook.org
SUMMARY:Chili Open
DESCRIPTION:Registration opens September 1\, 2026. Tournament will be held on October 3rd\, 2026.\n4 person scramble\, 18 hole Shotgun at 9AM.  \n$500 per team due at Registration. Includes\, greens fees\, cart\, all you can eat chili\, and a sleeve of golf balls \nClick Here to Register
URL:https://www.shepherdscrook.org/event/chili-open-3/
ATTACH;FMTTYPE=image/png:https://www.shepherdscrook.org/wp-content/uploads/sites/6172/2025/05/2026-Chili-Open-Shepherds-Crook.png
END:VEVENT
END:VCALENDAR