BEGIN:VCALENDAR
VERSION:2.0
PRODID:-//Shepherds Crook Golf Course - ECPv6.15.18//NONSGML v1.0//EN
CALSCALE:GREGORIAN
METHOD:PUBLISH
X-WR-CALNAME:Shepherds Crook Golf Course
X-ORIGINAL-URL:https://www.shepherdscrook.org
X-WR-CALDESC:Events for Shepherds Crook Golf Course
REFRESH-INTERVAL;VALUE=DURATION:PT1H
X-Robots-Tag:noindex
X-PUBLISHED-TTL:PT1H
BEGIN:VTIMEZONE
TZID:America/Chicago
BEGIN:DAYLIGHT
TZOFFSETFROM:-0600
TZOFFSETTO:-0500
TZNAME:CDT
DTSTART:20250309T080000
END:DAYLIGHT
BEGIN:STANDARD
TZOFFSETFROM:-0500
TZOFFSETTO:-0600
TZNAME:CST
DTSTART:20251102T070000
END:STANDARD
BEGIN:DAYLIGHT
TZOFFSETFROM:-0600
TZOFFSETTO:-0500
TZNAME:CDT
DTSTART:20260308T080000
END:DAYLIGHT
BEGIN:STANDARD
TZOFFSETFROM:-0500
TZOFFSETTO:-0600
TZNAME:CST
DTSTART:20261101T070000
END:STANDARD
BEGIN:DAYLIGHT
TZOFFSETFROM:-0600
TZOFFSETTO:-0500
TZNAME:CDT
DTSTART:20270314T080000
END:DAYLIGHT
BEGIN:STANDARD
TZOFFSETFROM:-0500
TZOFFSETTO:-0600
TZNAME:CST
DTSTART:20271107T070000
END:STANDARD
END:VTIMEZONE
BEGIN:VTIMEZONE
TZID:UTC
BEGIN:STANDARD
TZOFFSETFROM:+0000
TZOFFSETTO:+0000
TZNAME:UTC
DTSTART:20250101T000000
END:STANDARD
END:VTIMEZONE
BEGIN:VEVENT
DTSTART;TZID=America/Chicago:20260605T103000
DTEND;TZID=America/Chicago:20260605T103000
DTSTAMP:20260421T090540
CREATED:20260331T213820Z
LAST-MODIFIED:20260331T215137Z
UID:10000086-1780655400-1780655400@www.shepherdscrook.org
SUMMARY:Zion & Waukegan Firefighters Golf Outing
DESCRIPTION:Charity Golf Outing\nINCLUDES:\n• Shotgun Start @ Noon\n• Dinner\n• Raffles and More! \nFor REGISTRATION\, Click Here  \n  \nBEGINS AT 10:30\nPROJECT FIRE BUDDIES IS A REGISTERED 501(C)(3) FIREFIGHTERS WHO SUPPORT CRITICALLY ILL CHILDREN AND THEIR FAMILIES
URL:https://www.shepherdscrook.org/event/zion-waukegan-firefighters-outing/
ATTACH;FMTTYPE=image/jpeg:https://www.shepherdscrook.org/wp-content/uploads/sites/6172/2026/03/Zion-Fire-Outing-Flyer1.jpeg
END:VEVENT
BEGIN:VEVENT
DTSTART;VALUE=DATE:20260612
DTEND;VALUE=DATE:20260613
DTSTAMP:20260421T090540
CREATED:20260304T143838Z
LAST-MODIFIED:20260327T190555Z
UID:10000026-1781222400-1781308799@www.shepherdscrook.org
SUMMARY:Nine\, Wine & Dine
DESCRIPTION:Cost: $60 per person (must pay at registration)  \nIncludes: 9 holes with a cart\, 2 glasses of wine or beer\, light hors d’oeuvres & live music to follow.
URL:https://www.shepherdscrook.org/event/nine-wine-dine-2/
ATTACH;FMTTYPE=image/png:https://www.shepherdscrook.org/wp-content/uploads/sites/6172/2026/03/Nine-Wine-and-Dine-2026-Flyer-Shepards-Crook-1.png
END:VEVENT
BEGIN:VEVENT
DTSTART;VALUE=DATE:20260619
DTEND;VALUE=DATE:20260620
DTSTAMP:20260421T090540
CREATED:20260311T200506Z
LAST-MODIFIED:20260327T190117Z
UID:10000028-1781827200-1781913599@www.shepherdscrook.org
SUMMARY:Belles of the Bellwether 2026 League
DESCRIPTION:Click Here for Registration
URL:https://www.shepherdscrook.org/event/belles-of-the-bellwether-2026-league/2026-06-19/
ATTACH;FMTTYPE=image/png:https://www.shepherdscrook.org/wp-content/uploads/sites/6172/2026/03/Belles-of-the-BellWether-2026-V2-Shepherds-Crook-2.png
END:VEVENT
BEGIN:VEVENT
DTSTART;VALUE=DATE:20260626
DTEND;VALUE=DATE:20260628
DTSTAMP:20260421T090540
CREATED:20231219T035915Z
LAST-MODIFIED:20260316T190150Z
UID:10000002-1782432000-1782604799@www.shepherdscrook.org
SUMMARY:Firecracker Tournament
DESCRIPTION:Add this information to the outing page: $250 per team is due at registration. Pricing includes greens fees & cart on both days\, a sleeve of golf balls\, and lunch following the final round at Shepherd’s Crook. June 26th: 9 holes at Shiloh Golf Course with tee times beginning at 2pm. June 27th is a shotgun start at 7am at Shepherd’s Crook. Registration opens June 1\, 2026. \n\n \n\n\n\n\nRegister Here
URL:https://www.shepherdscrook.org/event/firecracker-tournament/
ATTACH;FMTTYPE=image/png:https://www.shepherdscrook.org/wp-content/uploads/sites/6172/2023/12/Annual-Firecracker-Tournament-2026.png
END:VEVENT
END:VCALENDAR